Workbook

Sheet PEF 2026
B1: Grandezze fisico-tecniche
B2: raccolta differenziata % - (a-2) | D2: 0.8166
B3: qa-2 ton | D3: 373.847
B4: costo unitario effettivo - Cueff €cent/kg - (a-2) | D4: 29.82092
B5: Benchmark di riferimento [cent€/kg] (fabbisogno standard/costo medio settore) - (a-2) | D5: 49.3
B7: Coefficiente di gradualità
B8: valutazione rispetto agli obiettivi di raccolta differenziata ɣ1 | D8: -0.2
B9: valutazione rispetto all' efficacia dell' attività di preparazione per il riutilizzo e riciclo ɣ2 | D9: -0.05
B10: Totale ɣ | D10: -0.25
B11: Coefficiente di gradualità (1+ ɣ) | D11: 0.75
B13: Verifica del limite di crescita
B14: rpia | D14: 0.019
B15: coefficiente di recupero di produttività Xa | D15: 0.001
B16: coeff. Potenziamento del servizio Ka | D16: 0.03
B17: coeff. per recupero inflazione CRIa | D17: 0.02
B18: Parametro per la determinazione del limite alla crescita delle tariffe ρ | D18: 0.068
B19: (1+ρ) | D19: 1.068
B20: ∑Ta | D20: 141619.03
B21: ∑TVa-1 | D21: 96271.69
B22: ∑TFa-1 | D22: 25915.447
B23: ∑Ta-1 | D23: 122187.14
B24: ∑Ta/ ∑Ta-1 | D24: 1.1590338
B26: ∑Tmax (entrate tariffarie massime applicabili nel rispetto del limite di crescita) | D26: 130495.86
... B38: Totale entrate tariffarie dopo le detrazioni di cui al comma 4.5 della Determina 1/DTAC/2025 | D38: 127054.29

Sheet Dati iniziali
A2: 1 | B2: % Utenze domestiche | C2: % Utenze non domestiche
A3: % Costi fissi | B3: 0.936 | C3: =A2-B3 -> 0.064
A4: % CostiVariabili | B4: 0.89 | C4: =A2-B4 -> 0.11
C6: Utenze domestiche | D6: Utenze non domestiche
A7: Totale costi fissi | B7: ='PEF 2026'!D37+C19 -> 28372.359 | C7: =(B7*B3) -> 26556.528 | D7: =(B7*C3) -> 1815.831
A8: Totale costi variabili | B8: ='PEF 2026'!D36+B19 -> 105881.93 | C8: =(B8*B4) -> 94234.921 | D8: =(B8*C4) -> 11647.013
A9: Totale costo del servizio | B9: =B7+B8 -> 134254.29 | C9: =SUM(C7:C8) -> 120791.45 | D9: =SUM(D7:D8) -> 13462.844 | E9: =B9-(C9+D9) -> 0
B12: 1 | C12: =B4 -> 0.89 | D12: =C4 -> 0.11
A13: Quantità rifiuti prodotti (Kg) | B13: 374000 | C13: =B13*C12 -> 332860 | D13: =B13*D12 -> 41140 | E13: =B13-(C13+D13) -> 0
A17: RIDUZIONI
A18: DESCRIZIONE | B18: PARTE VARIABILE | C18: PARTE FISSA
A19: domestiche + non domestiche | B19: 5600 | C19: 1600
A22: RIEPILOGO VALUTAZIONI TEORICHE PER CALCOLO PERCENTUALE UD E UND
A23: 1 | B23: Utenze domestiche | C23: Utenze non domestiche
A24: % Costi fissi (rapporto superfici totali/utenze) | B24: ='Produzione rifiuti teorica'!L14/('Produzione rifiuti teorica'!L14+'Produzione rifiuti teorica'!D29) -> 0.94233713 | C24: ='Produzione rifiuti teorica'!D29/('Produzione rifiuti teorica'!L14+'Produzione rifiuti teorica'!D29) -> 0.057662868
A25: % CostiVariabili (produzione rifiuti teorica) | B25: ='Produzione rifiuti teorica'!H32 -> 0.87008773 | C25: ='Produzione rifiuti teorica'!H30 -> 0.12991227

Sheet Produzione rifiuti teorica
A2: DETERMINAZIONE QUANTITA' RIFIUTI PRODOTTI DA UTENZE DOMESTICHE E NON DOMESTICHE
A3: conforme a Circolare Ministero dell'ambiente relativa a DPR 27 aprile 1999 n. 158
B5: Totale Rifiuti raccolti, (al netto dei rifiuti di Imballaggio) | E5: Kg | F5: ='Dati iniziali'!B13 -> 374000
J6: UTENZE DOMESTICHE
A7: TIPO ATT. | B7: DESCRIZIONE | C7: N. | D7: SUP TASS | E7: KD | F7: RIFIUTI PRODOTTI (Kg) | J7: TIPO ATT. | K7: N. UTENZE | L7: Tot. superficie (mq)
A8: 1 | B8: Musei, biblioteche, scuole, associazioni, luoghi di culto | C8: 3 | D8: 188 | E8: ='UND TV'!$E3 -> 6.83 | F8: =E8*D8 -> 1284.04 | J8: 1 | K8: 184 | L8: 18086
A9: 2 | B9: Campeggi, distributori carburanti | E9: ='UND TV'!$E4 -> 7 | F9: =E9*D9 -> 0 | J9: 2 | K9: 147 | L9: 15965
A10: 3 | B10: Stabilimenti balneari | E10: ='UND TV'!$E5 -> 7 | F10: =E10*D10 -> 0 | J10: 3 | K10: 108 | L10: 11468
A11: 4 | B11: Esposizioni, autosaloni | E11: ='UND TV'!$E6 -> 5 | F11: =E11*D11 -> 0 | J11: 4 | K11: 60 | L11: 7186
A12: 5 | B12: Alberghi con ristorante | E12: ='UND TV'!$E7 -> 14 | F12: =E12*D12 -> 0 | J12: 5 | K12: 14 | L12: 1558
A13: 6 | B13: Alberghi senza ristorante | E13: ='UND TV'!$E8 -> 9 | F13: =E13*D13 -> 0 | J13: 6 o più | K13: 9 | L13: 1137
A14: 7 | B14: Case di cura e riposo | E14: ='UND TV'!$E9 -> 11 | F14: =E14*D14 -> 0 | K14: =K8+K9+K10+K11+K12+K13 -> 522 | L14: =SUM(L8:L13) -> 55400
A15: 8 | B15: Uffici, agenzie | C15: 5 | D15: 312 | E15: ='UND TV'!$E10 -> 10.5 | F15: =E15*D15 -> 3276
A16: 9 | B16: Banche, istituti di credito e studi professionali | E16: ='UND TV'!$E11 -> 9 | F16: =E16*D16 -> 0 | L16: =L14+D29 -> 58790
A17: 10 | B17: Negozi abbigliamento, calzature, libreria, cartoleria, ferramenta e altri beni durevoli | C17: 1 | D17: 176 | E17: ='UND TV'!$E12 -> 12.5 | F17: =E17*D17 -> 2200 | L17: =L14/L16 -> 0.94233713
A18: 11 | B18: Edicola, farmacia, tabaccaio, plurilicenze | C18: 2 | D18: 141 | E18: ='UND TV'!$E13 -> 15 | F18: =E18*D18 -> 2115 | L18: =D29/L16 -> 0.057662868
A19: 12 | B19: Attività artigianali tipo botteghe (falegname, idraulico, fabbro, elettricista parrucchiere) | C19: 5 | D19: 380 | E19: ='UND TV'!$E14 -> 12.2 | F19: =E19*D19 -> 4636
A20: 13 | B20: Carrozzeria, autofficina, elettrauto | C20: 2 | D20: 605 | E20: ='UND TV'!$E15 -> 12.75 | F20: =E20*D20 -> 7713.75
A21: 14 | B21: Attività industriali con capannoni di produzione | E21: ='UND TV'!$E16 -> 7.53 | F21: =E21*D21 -> 0
A22: 15 | B22: Attività artigianali di produzione beni specifici | C22: 3 | D22: 801 | E22: ='UND TV'!$E17 -> 9 | F22: =E22*D22 -> 7209
A23: 16 | B23: Ristoranti, trattorie osterie, pizzerie | E23: ='UND TV'!$E18 -> 78 | F23: =E23*D23 -> 0
A24: 17 | B24: Bar, caffè, pasticceria | C24: 3 | D24: 214 | E24: ='UND TV'!$E19 -> 38.5 | F24: =E24*D24 -> 8239
A25: 18 | B25: Supermercato, pane e pasta, macelleria, salumi e formaggi, generi alimentari | C25: 4 | D25: 442 | E25: ='UND TV'!$E20 -> 12.2 | F25: =E25*D25 -> 5392.4
A26: 19 | B26: Plurilicenze alimentari e/o miste | C26: 1 | D26: 23 | E26: ='UND TV'!$E21 -> 30 | F26: =E26*D26 -> 690
A27: 20 | B27: Ortofrutta, pescherie, fiori e piante | C27: 1 | D27: 108 | E27: ='UND TV'!$E22 -> 54 | F27: =E27*D27 -> 5832
A28: 21 | B28: Discoteche, night club | E28: ='UND TV'!$E23 -> 15.43 | F28: =E28*D28 -> 0
C29: =SUM(C8:C28) -> 30 | D29: =SUM(D8:D28) -> 3390 | F29: Totale | H29: %
A30: Stima Rifiuti prodotti dalle Utenze Non Domestiche (KG UND) | E30: Kg | F30: =SUM(F8:F28) -> 48587.19 | H30: =F30/F5 -> 0.12991227
A32: Stima Rifiuti prodotti dalle Utenze Domestiche (KG UD) | E32: Kg | F32: =F5-F30 -> 325412.81 | H32: =F32/F5 -> 0.87008773

Sheet UD Scelta Coefficienti
B1: DOMESTICHE
B2: < 5,000 abitanti
B3: FISSA (Ka) | G3: VARIABILE (Kb)
B4: n | C4: Nord | D4: Centro | E4: Sud | G4: n | H4: Kb min | I4: Kb max | J4: Kc min -50% | K4: Kc max +50% | L4: Ps | M4: Kb(n)
B5: 1 | C5: 0.84 | D5: 0.82 | E5: 0.75 | G5: 1 | H5: 0.6 | I5: 1 | J5: =H5/2 -> 0.3 | K5: =I5*1.5 -> 1.5 | M5: 0.99
B6: 2 | C6: 0.98 | D6: 0.92 | E6: 0.88 | G6: 2 | H6: 1.4 | I6: 1.8 | J6: =H6/2 -> 0.7 | K6: =I6*1.5 -> 2.7 | M6: 1.61
B7: 3 | C7: 1.08 | D7: 1.03 | E7: 1 | G7: 3 | H7: 1.8 | I7: 2.3 | J7: =H7/2 -> 0.9 | K7: =I7*1.5 -> 3.45 | M7: 2.05
B8: 4 | C8: 1.16 | D8: 1.1 | E8: 1.08 | G8: 4 | H8: 2.2 | I8: 3 | J8: =H8/2 -> 1.1 | K8: =I8*1.5 -> 4.5 | M8: 2.6
B9: 5 | C9: 1.24 | D9: 1.17 | E9: 1.11 | G9: 5 | H9: 2.9 | I9: 3.6 | J9: =H9/2 -> 1.45 | K9: =I9*1.5 -> 5.4 | M9: 3.25
B10: 6 o più | C10: 1.3 | D10: 1.21 | E10: 1.1 | G10: 6 o più | H10: 3.4 | I10: 4.1 | J10: =H10/2 -> 1.7 | K10: =I10*1.5 -> 6.15 | M10: 3.75

Sheet UD TF
A1: TARIFFA FISSA UTENZE DOMESTICHE (Ka)
A2: Categorie | B2: numero utenze | C2: tot superficie (mq) | D2: Ka (zona Sud) | E2: Quf | F2: TFd(n) | G2: TFd
A3: 1 | B3: ='Produzione rifiuti teorica'!$K8 -> 184 | C3: ='Produzione rifiuti teorica'!$L8 -> 18086 | D3: ='UD Scelta Coefficienti'!$E5 -> 0.75 | E3: =B14 -> 0.53302108 | F3: =(E3*D3) -> 0.39976581 | G3: =(F3*C3) -> 7230.1645
A4: 2 | B4: ='Produzione rifiuti teorica'!$K9 -> 147 | C4: ='Produzione rifiuti teorica'!$L9 -> 15965 | D4: ='UD Scelta Coefficienti'!$E6 -> 0.88 | E4: =B14 -> 0.53302108 | F4: =(E4*D4) -> 0.46905855 | G4: =(F4*C4) -> 7488.5198
A5: 3 | B5: ='Produzione rifiuti teorica'!$K10 -> 108 | C5: ='Produzione rifiuti teorica'!$L10 -> 11468 | D5: ='UD Scelta Coefficienti'!$E7 -> 1 | E5: =B14 -> 0.53302108 | F5: =(E5*D5) -> 0.53302108 | G5: =(F5*C5) -> 6112.6858
A6: 4 | B6: ='Produzione rifiuti teorica'!$K11 -> 60 | C6: ='Produzione rifiuti teorica'!$L11 -> 7186 | D6: ='UD Scelta Coefficienti'!$E8 -> 1.08 | E6: =B14 -> 0.53302108 | F6: =(E6*D6) -> 0.57566277 | G6: =(F6*C6) -> 4136.7127
A7: 5 | B7: ='Produzione rifiuti teorica'!$K12 -> 14 | C7: ='Produzione rifiuti teorica'!$L12 -> 1558 | D7: ='UD Scelta Coefficienti'!$E9 -> 1.11 | E7: =B14 -> 0.53302108 | F7: =(E7*D7) -> 0.5916534 | G7: =(F7*C7) -> 921.796
A8: 6 o più | B8: ='Produzione rifiuti teorica'!$K13 -> 9 | C8: ='Produzione rifiuti teorica'!$L13 -> 1137 | D8: ='UD Scelta Coefficienti'!$E10 -> 1.1 | E8: =B14 -> 0.53302108 | F8: =(E8*D8) -> 0.58632319 | G8: =(F8*C8) -> 666.64947
A10: Totale | B10: =SUM(B3:B9) -> 9 | C10: =SUM(C3:C9) -> 55400 | G10: =SUM(G3:G9) -> 26556.528 | H10: ='Dati iniziali'!C7-'UD TF'!G10 -> 0
A14: Quf = | B14: =('Dati iniziali'!C7)/((C3*D3)+(C4*D4)+(C5*D5)+(C6*D6)+(C7*D7)+(C8*D8)) -> 0.53302108

Sheet UD TV
A1: TARIFFA VARIABILE UTENZE DOMESTICHE (Kb)
A2: Categorie | B2: numero utenze | C2: numero utenze senza pertinenze | D2: tot superficie (mq) | E2: Kb(n) | F2: Quv | G2: Cu | H2: TVd(n) | I2: TVd
A3: 1 | B3: ='Produzione rifiuti teorica'!$K8 -> 184 | C3: =B3-B23 -> 184 | D3: ='Produzione rifiuti teorica'!$L8-C23 -> 18086 | E3: ='UD Scelta Coefficienti'!$M5 -> 0.99 | F3: =C17 -> 380.20286 | G3: =('Dati iniziali'!C8/'Dati iniziali'!C13) -> 0.28310677 | H3: =(F3*E3*G3) -> 106.56162 | I3: =(H3*C3) -> 19607.339
A4: 2 | B4: ='Produzione rifiuti teorica'!$K9 -> 147 | C4: =B4-B24 -> 147 | D4: ='Produzione rifiuti teorica'!$L9-C24 -> 15965 | E4: ='UD Scelta Coefficienti'!$M6 -> 1.61 | F4: =C17 -> 380.20286 | G4: =('Dati iniziali'!C8/'Dati iniziali'!C13) -> 0.28310677 | H4: =(F4*E4*G4) -> 173.29719 | I4: =(H4*C4) -> 25474.687
A5: 3 | B5: ='Produzione rifiuti teorica'!$K10 -> 108 | C5: =B5-B25 -> 108 | D5: ='Produzione rifiuti teorica'!$L10-C25 -> 11468 | E5: ='UD Scelta Coefficienti'!$M7 -> 2.05 | F5: =C17 -> 380.20286 | G5: =('Dati iniziali'!C8/'Dati iniziali'!C13) -> 0.28310677 | H5: =(F5*E5*G5) -> 220.65791 | I5: =(H5*C5) -> 23831.054
A6: 4 | B6: ='Produzione rifiuti teorica'!$K11 -> 60 | C6: =B6-B26 -> 60 | D6: ='Produzione rifiuti teorica'!$L11-C26 -> 7186 | E6: ='UD Scelta Coefficienti'!$M8 -> 2.6 | F6: =C17 -> 380.20286 | G6: =('Dati iniziali'!C8/'Dati iniziali'!C13) -> 0.28310677 | H6: =(F6*E6*G6) -> 279.85881 | I6: =(H6*C6) -> 16791.529
A7: 5 | B7: ='Produzione rifiuti teorica'!$K12 -> 14 | C7: =B7-B27 -> 14 | D7: ='Produzione rifiuti teorica'!$L12-C27 -> 1558 | E7: ='UD Scelta Coefficienti'!$M9 -> 3.25 | F7: =C17 -> 380.20286 | G7: =('Dati iniziali'!C8/'Dati iniziali'!C13) -> 0.28310677 | H7: =(F7*E7*G7) -> 349.82352 | I7: =(H7*C7) -> 4897.5292
A8: 6 o più | B8: ='Produzione rifiuti teorica'!$K13 -> 9 | C8: =B8-B28 -> 9 | D8: ='Produzione rifiuti teorica'!$L13-C28 -> 1137 | E8: ='UD Scelta Coefficienti'!$M10 -> 3.75 | F8: =C17 -> 380.20286 | G8: =('Dati iniziali'!C8/'Dati iniziali'!C13) -> 0.28310677 | H8: =(F8*E8*G8) -> 403.64252 | I8: =(H8*C8) -> 3632.7827
A10: Totale | B10: =SUM(B3:B9) -> 9 | C10: =SUM(C3:C9) -> 522 | D10: =SUM(D3:D9) -> 55400 | I10: =SUM(I3:I9) -> 94234.921 | J10: ='Dati iniziali'!C8-'UD TV'!I10 -> 0
A14: Qtot = | C14: ='Dati iniziali'!C13 -> 332860
A17: Quv = | C17: =C14/((C3*E3)+(C4*E4)+(C5*E5)+(C6*E6)+(C7*E7)+(C8*E8)) -> 380.20286
A21: PERTINENZE
A22: N. OCCUP. | B22: N. PERTINENZE | C22: MQ
A23: 1
A24: 2
A25: 3
A26: 4
A27: 5
A28: 6 +

Sheet TARIFFE UD 2026
A1: TARIFFE TARI 2026 UTENZE DOMESTICHE | E1: TARI 2025 UTENZE DOMESTICHE | K1: SIMULAZIONE NUOVO GETTITO CON ADDIZIONALE
A2: Categorie | B2: Tariffa FISSA | C2: Tariffa VARIABILE | E2: Tariffa fissa | F2: Tariffa variabile | H2: Differenza TF | I2: Differenza TV | K2: Mq | L2: Add. Prov. | M2: Costo TARI 2026 | N2: Costo TARI 2025 | O2: Differenza
A3: 1 | B3: ='UD TF'!F3 -> 0.39976581 | C3: ='UD TV'!H3 -> 106.56162 | E3: 0.38330154 | F3: 100.73252 | H3: =B3-E3 -> 0.01646427 | I3: =C3-F3 -> 5.8291092 | K3: 100 | L3: 0.05 | M3: =IF(K3<>0,((K3*B3)+C3*(1+L3)),0) -> 151.86629 | N3: =IF(K3<>0,((K3*E3)+F3)*(1+L3),0) -> 146.0158 | O3: =M3-N3 -> 5.850484 | P3: =O3/N3 -> 0.040067471
A4: 2 | B4: ='UD TF'!F4 -> 0.46905855 | C4: ='UD TV'!H4 -> 173.29719 | E4: 0.44974048 | F4: 163.81753 | H4: =B4-E4 -> 0.019318077 | I4: =C4-F4 -> 9.4796625 | K4: =$K$3 -> 100 | L4: 0.05 | M4: =IF(K4<>0,((K4*B4)+C4*(1+L4)),0) -> 228.8679 | N4: =IF(K4<>0,((K4*E4)+F4)*(1+L4),0) -> 219.23115 | O4: =M4-N4 -> 9.636751 | P4: =O4/N4 -> 0.043957033
A5: 3 | B5: ='UD TF'!F5 -> 0.53302108 | C5: ='UD TV'!H5 -> 220.65791 | E5: 0.51106872 | F5: 208.58753 | H5: =B5-E5 -> 0.021952361 | I5: =C5-F5 -> 12.070378 | K5: =$K$3 -> 100 | L5: 0.05 | M5: =IF(K5<>0,((K5*B5)+C5*(1+L5)),0) -> 284.99291 | N5: =IF(K5<>0,((K5*E5)+F5)*(1+L5),0) -> 272.67913 | O5: =M5-N5 -> 12.313789 | P5: =O5/N5 -> 0.045158532
A6: 4 | B6: ='UD TF'!F6 -> 0.57566277 | C6: ='UD TV'!H6 -> 279.85881 | E6: 0.55195422 | F6: 264.55004 | H6: =B6-E6 -> 0.023708549 | I6: =C6-F6 -> 15.308772 | K6: =$K$3 -> 100 | L6: 0.05 | M6: =IF(K6<>0,((K6*B6)+C6*(1+L6)),0) -> 351.41803 | N6: =IF(K6<>0,(K6*E6+F6)*(1+L6),0) -> 335.73274 | O6: =M6-N6 -> 15.685294 | P6: =O6/N6 -> 0.046719585
A7: 5 | B7: ='UD TF'!F7 -> 0.5916534 | C7: ='UD TV'!H7 -> 349.82352 | E7: 0.56728628 | F7: 330.68755 | H7: =B7-E7 -> 0.02436712 | I7: =C7-F7 -> 19.135965 | K7: =$K$3 -> 100 | L7: 0.05 | M7: =IF(K7<>0,((K7*B7)+C7*(1+L7)),0) -> 426.48003 | N7: =IF(K7<>0,(K7*E7+F7)*(1+L7),0) -> 406.78699 | O7: =M7-N7 -> 19.693044 | P7: =O7/N7 -> 0.048411193
A8: 6 o più | B8: ='UD TF'!F8 -> 0.58632319 | C8: ='UD TV'!H8 -> 403.64252 | E8: 0.5621756 | F8: 381.56256 | H8: =B8-E8 -> 0.024147597 | I8: =C8-F8 -> 22.079959 | K8: =$K$3 -> 100 | L8: 0.05 | M8: =IF(K8<>0,((K8*B8)+C8*(1+L8)),0) -> 482.45696 | N8: =IF(K8<>0,(K8*E8+F8)*(1+L8),0) -> 459.66912 | O8: =M8-N8 -> 22.787839 | P8: =O8/N8 -> 0.049574439

Sheet UND Scelta Coefficienti
B1: NON DOMESTICHE
B2: > 5,000 abitanti
B3: FISSA (Kc) | L3: VARIABILE (Kd)
B4: n. | C4: ATTIVTA' | D4: Kc min. | E4: Kc max. | F4: Kc min -50% | G4: Kc max +50% | H4: Kd med | I4: % Rid | J4: Kc | L4: Kd min. | M4: Kd max. | N4: Kd min -50% | O4: Kd max +50% | P4: Kd med | Q4: ad hoc | R4: % Rid | S4: Kd
B5: 1 | C5: Musei, biblioteche, scuole, associazioni, luoghi di culto | D5: 0.29 | E5: 0.52 | F5: =D5/2 -> 0.145 | G5: =E5*1.5 -> 0.78 | H5: =(D5+E5)/2 -> 0.405 | I5: max | J5: =IF(I5="min",D5,IF(I5="max",E5,IF(I5="med",H5))) -> 0.52 | L5: 2.54 | M5: 4.55 | N5: =L5/2 -> 1.27 | O5: =M5*1.5 -> 6.825 | P5: =(L5+M5)/2 -> 3.545 | Q5: 6.83 | R5: ad hoc | S5: =IF(R5="min",L5,IF(R5="max",M5,IF(R5="med",P5,IF(R5="ad hoc",Q5)))) -> 6.83
B6: 2 | C6: Campeggi, distributori carburanti, impianti sportivi | D6: 0.44 | E6: 0.74 | F6: =D6/2 -> 0.22 | G6: =E6*1.5 -> 1.11 | H6: =(D6+E6)/2 -> 0.59 | I6: max | J6: =IF(I6="min",D6,IF(I6="max",E6,IF(I6="med",H6))) -> 0.74 | L6: 3.83 | M6: 6.5 | N6: =L6/2 -> 1.915 | O6: =M6*1.5 -> 9.75 | P6: =(L6+M6)/2 -> 5.165 | Q6: 7 | R6: ad hoc | S6: =IF(R6="min",L6,IF(R6="max",M6,IF(R6="med",P6,IF(R6="ad hoc",Q6)))) -> 7
B7: 3 | C7: Stabilimenti balneari | D7: 0.66 | E7: 0.75 | F7: =D7/2 -> 0.33 | G7: =E7*1.5 -> 1.125 | H7: =(D7+E7)/2 -> 0.705 | I7: max | J7: =IF(I7="min",D7,IF(I7="max",E7,IF(I7="med",H7))) -> 0.75 | L7: 5.8 | M7: 6.64 | N7: =L7/2 -> 2.9 | O7: =M7*1.5 -> 9.96 | P7: =(L7+M7)/2 -> 6.22 | Q7: 7 | R7: ad hoc | S7: =IF(R7="min",L7,IF(R7="max",M7,IF(R7="med",P7,IF(R7="ad hoc",Q7)))) -> 7
B8: 4 | C8: Esposizioni, autosaloni | D8: 0.34 | E8: 0.52 | F8: =D8/2 -> 0.17 | G8: =E8*1.5 -> 0.78 | H8: =(D8+E8)/2 -> 0.43 | I8: max | J8: =IF(I8="min",D8,IF(I8="max",E8,IF(I8="med",H8))) -> 0.52 | L8: 2.97 | M8: 4.55 | N8: =L8/2 -> 1.485 | O8: =M8*1.5 -> 6.825 | P8: =(L8+M8)/2 -> 3.76 | Q8: 5 | R8: ad hoc | S8: =IF(R8="min",L8,IF(R8="max",M8,IF(R8="med",P8,IF(R8="ad hoc",Q8)))) -> 5
B9: 5 | C9: Alberghi con ristorante | D9: 1.01 | E9: 1.55 | F9: =D9/2 -> 0.505 | G9: =E9*1.5 -> 2.325 | H9: =(D9+E9)/2 -> 1.28 | I9: max | J9: =IF(I9="min",D9,IF(I9="max",E9,IF(I9="med",H9))) -> 1.55 | L9: 8.91 | M9: 13.64 | N9: =L9/2 -> 4.455 | O9: =M9*1.5 -> 20.46 | P9: =(L9+M9)/2 -> 11.275 | Q9: 14 | R9: ad hoc | S9: =IF(R9="min",L9,IF(R9="max",M9,IF(R9="med",P9,IF(R9="ad hoc",Q9)))) -> 14
B10: 6 | C10: Alberghi senza ristorante | D10: 0.85 | E10: 0.99 | F10: =D10/2 -> 0.425 | G10: =E10*1.5 -> 1.485 | H10: =(D10+E10)/2 -> 0.92 | I10: max | J10: =IF(I10="min",D10,IF(I10="max",E10,IF(I10="med",H10))) -> 0.99 | L10: 7.51 | M10: 8.7 | N10: =L10/2 -> 3.755 | O10: =M10*1.5 -> 13.05 | P10: =(L10+M10)/2 -> 8.105 | Q10: 9 | R10: ad hoc | S10: =IF(R10="min",L10,IF(R10="max",M10,IF(R10="med",P10,IF(R10="ad hoc",Q10)))) -> 9
B11: 7 | C11: Case di cura e riposo | D11: 0.89 | E11: 1.2 | F11: =D11/2 -> 0.445 | G11: =E11*1.5 -> 1.8 | H11: =(D11+E11)/2 -> 1.045 | I11: max | J11: =IF(I11="min",D11,IF(I11="max",E11,IF(I11="med",H11))) -> 1.2 | L11: 7.8 | M11: 10.54 | N11: =L11/2 -> 3.9 | O11: =M11*1.5 -> 15.81 | P11: =(L11+M11)/2 -> 9.17 | Q11: 11 | R11: ad hoc | S11: =IF(R11="min",L11,IF(R11="max",M11,IF(R11="med",P11,IF(R11="ad hoc",Q11)))) -> 11
B12: 8 | C12: Uffici, agenzie, studi professionali | D12: 0.9 | E12: 1.05 | F12: =D12/2 -> 0.45 | G12: =E12*1.5 -> 1.575 | H12: =(D12+E12)/2 -> 0.975 | I12: max | J12: =IF(I12="min",D12,IF(I12="max",E12,IF(I12="med",H12))) -> 1.05 | L12: 7.89 | M12: 9.26 | N12: =L12/2 -> 3.945 | O12: =M12*1.5 -> 13.89 | P12: =(L12+M12)/2 -> 8.575 | Q12: 10.5 | R12: ad hoc | S12: =IF(R12="min",L12,IF(R12="max",M12,IF(R12="med",P12,IF(R12="ad hoc",Q12)))) -> 10.5
B13: 9 | C13: Banche ed istituti di credito | D13: 0.44 | E13: 0.63 | F13: =D13/2 -> 0.22 | G13: =E13*1.5 -> 0.945 | H13: =(D13+E13)/2 -> 0.535 | I13: max | J13: =IF(I13="min",D13,IF(I13="max",E13,IF(I13="med",H13))) -> 0.63 | L13: 3.9 | M13: 5.51 | N13: =L13/2 -> 1.95 | O13: =M13*1.5 -> 8.265 | P13: =(L13+M13)/2 -> 4.705 | Q13: 9 | R13: ad hoc | S13: =IF(R13="min",L13,IF(R13="max",M13,IF(R13="med",P13,IF(R13="ad hoc",Q13)))) -> 9
B14: 10 | C14: Negozi abbigliamento, calzature, libreria, cartoleria, ferramenta, e altri beni durevoli | D14: 0.94 | E14: 1.16 | F14: =D14/2 -> 0.47 | G14: =E14*1.5 -> 1.74 | H14: =(D14+E14)/2 -> 1.05 | I14: max | J14: =IF(I14="min",D14,IF(I14="max",E14,IF(I14="med",H14))) -> 1.16 | L14: 8.24 | M14: 10.21 | N14: =L14/2 -> 4.12 | O14: =M14*1.5 -> 15.315 | P14: =(L14+M14)/2 -> 9.225 | Q14: 12.5 | R14: ad hoc | S14: =IF(R14="min",L14,IF(R14="max",M14,IF(R14="med",P14,IF(R14="ad hoc",Q14)))) -> 12.5
B15: 11 | C15: Edicola, farmacia, tabaccaio, plurilicenze | D15: 1.02 | E15: 1.52 | F15: =D15/2 -> 0.51 | G15: =E15*1.5 -> 2.28 | H15: =(D15+E15)/2 -> 1.27 | I15: max | J15: =IF(I15="min",D15,IF(I15="max",E15,IF(I15="med",H15))) -> 1.52 | L15: 8.98 | M15: 13.34 | N15: =L15/2 -> 4.49 | O15: =M15*1.5 -> 20.01 | P15: =(L15+M15)/2 -> 11.16 | Q15: 15 | R15: ad hoc | S15: =IF(R15="min",L15,IF(R15="max",M15,IF(R15="med",P15,IF(R15="ad hoc",Q15)))) -> 15
B16: 12 | C16: Attività artigianali tipo botteghe: falegname, idraulico, fabbro, elettricista, parrucc. | D16: 0.78 | E16: 1.06 | F16: =D16/2 -> 0.39 | G16: =E16*1.5 -> 1.59 | H16: =(D16+E16)/2 -> 0.92 | I16: max | J16: =IF(I16="min",D16,IF(I16="max",E16,IF(I16="med",H16))) -> 1.06 | L16: 6.85 | M16: 9.34 | N16: =L16/2 -> 3.425 | O16: =M16*1.5 -> 14.01 | P16: =(L16+M16)/2 -> 8.095 | Q16: 12.2 | R16: ad hoc | S16: =IF(R16="min",L16,IF(R16="max",M16,IF(R16="med",P16,IF(R16="ad hoc",Q16)))) -> 12.2
B17: 13 | C17: Carrozzeria, autofficina, elettrauto | D17: 0.91 | E17: 1.45 | F17: =D17/2 -> 0.455 | G17: =E17*1.5 -> 2.175 | H17: =(D17+E17)/2 -> 1.18 | I17: max | J17: =IF(I17="min",D17,IF(I17="max",E17,IF(I17="med",H17))) -> 1.45 | L17: 7.98 | M17: 12.75 | N17: =L17/2 -> 3.99 | O17: =M17*1.5 -> 19.125 | P17: =(L17+M17)/2 -> 10.365 | R17: max | S17: =IF(R17="min",L17,IF(R17="max",M17,IF(R17="med",P17,IF(R17="ad hoc",Q17)))) -> 12.75
B18: 14 | C18: Attività industriali con capannoni di produzione | D18: 0.41 | E18: 0.86 | F18: =D18/2 -> 0.205 | G18: =E18*1.5 -> 1.29 | H18: =(D18+E18)/2 -> 0.635 | I18: max | J18: =IF(I18="min",D18,IF(I18="max",E18,IF(I18="med",H18))) -> 0.86 | L18: 3.62 | M18: 7.53 | N18: =L18/2 -> 1.81 | O18: =M18*1.5 -> 11.295 | P18: =(L18+M18)/2 -> 5.575 | R18: max | S18: =IF(R18="min",L18,IF(R18="max",M18,IF(R18="med",P18,IF(R18="ad hoc",Q18)))) -> 7.53
B19: 15 | C19: Attività artigianali di produzione beni specifici | D19: 0.67 | E19: 0.95 | F19: =D19/2 -> 0.335 | G19: =E19*1.5 -> 1.425 | H19: =(D19+E19)/2 -> 0.81 | I19: max | J19: =IF(I19="min",D19,IF(I19="max",E19,IF(I19="med",H19))) -> 0.95 | L19: 5.91 | M19: 8.34 | N19: =L19/2 -> 2.955 | O19: =M19*1.5 -> 12.51 | P19: =(L19+M19)/2 -> 7.125 | Q19: 9 | R19: ad hoc | S19: =IF(R19="min",L19,IF(R19="max",M19,IF(R19="med",P19,IF(R19="ad hoc",Q19)))) -> 9
B20: 16 | C20: Ristoranti, trattorie, osterie, pizzerie, mense, pub, birrerie | D20: 5.54 | E20: 8.18 | F20: =D20/2 -> 2.77 | G20: =E20*1.5 -> 12.27 | H20: =(D20+E20)/2 -> 6.86 | I20: max | J20: =IF(I20="min",D20,IF(I20="max",E20,IF(I20="med",H20))) -> 8.18 | L20: 48.74 | M20: 71.99 | N20: =L20/2 -> 24.37 | O20: =M20*1.5 -> 107.985 | P20: =(L20+M20)/2 -> 60.365 | Q20: 78 | R20: ad hoc | S20: =IF(R20="min",L20,IF(R20="max",M20,IF(R20="med",P20,IF(R20="ad hoc",Q20)))) -> 78
B21: 17 | C21: Bar, caffè, pasticceria | D21: 4.38 | E21: 6.32 | F21: =D21/2 -> 2.19 | G21: =E21*1.5 -> 9.48 | H21: =(D21+E21)/2 -> 5.35 | I21: min | J21: =IF(I21="min",D21,IF(I21="max",E21,IF(I21="med",H21))) -> 4.38 | L21: 38.5 | M21: 55.61 | N21: =L21/2 -> 19.25 | O21: =M21*1.5 -> 83.415 | P21: =(L21+M21)/2 -> 47.055 | Q21: 39 | R21: min | S21: =IF(R21="min",L21,IF(R21="max",M21,IF(R21="med",P21,IF(R21="ad hoc",Q21)))) -> 38.5
B22: 18 | C22: Supermercato, pane e pasta, macelleria, salumi e formaggi, generi alimentari | D22: 0.57 | E22: 2.8 | F22: =D22/2 -> 0.285 | G22: =E22*1.5 -> 4.2 | H22: =(D22+E22)/2 -> 1.685 | I22: max | J22: =IF(I22="min",D22,IF(I22="max",E22,IF(I22="med",H22))) -> 2.8 | L22: 5 | M22: 24.68 | N22: =L22/2 -> 2.5 | O22: =M22*1.5 -> 37.02 | P22: =(L22+M22)/2 -> 14.84 | Q22: 12.2 | R22: ad hoc | S22: =IF(R22="min",L22,IF(R22="max",M22,IF(R22="med",P22,IF(R22="ad hoc",Q22)))) -> 12.2
B23: 19 | C23: Plurilicenze alimentari e/o miste | D23: 2.14 | E23: 3.02 | F23: =D23/2 -> 1.07 | G23: =E23*1.5 -> 4.53 | H23: =(D23+E23)/2 -> 2.58 | I23: max | J23: =IF(I23="min",D23,IF(I23="max",E23,IF(I23="med",H23))) -> 3.02 | L23: 18.8 | M23: 26.55 | N23: =L23/2 -> 9.4 | O23: =M23*1.5 -> 39.825 | P23: =(L23+M23)/2 -> 22.675 | Q23: 30 | R23: ad hoc | S23: =IF(R23="min",L23,IF(R23="max",M23,IF(R23="med",P23,IF(R23="ad hoc",Q23)))) -> 30
B24: 20 | C24: Ortofrutta, pescherie, fiori e piante | D24: 0.34 | E24: 10.88 | F24: =D24/2 -> 0.17 | G24: =E24*1.5 -> 16.32 | H24: =(D24+E24)/2 -> 5.61 | I24: max | J24: =IF(I24="min",D24,IF(I24="max",E24,IF(I24="med",H24))) -> 10.88 | L24: 3 | M24: 95.75 | N24: =L24/2 -> 1.5 | O24: =M24*1.5 -> 143.625 | P24: =(L24+M24)/2 -> 49.375 | Q24: 54 | R24: ad hoc | S24: =IF(R24="min",L24,IF(R24="max",M24,IF(R24="med",P24,IF(R24="ad hoc",Q24)))) -> 54
B25: 21 | C25: Discoteche, night-club | D25: 1.02 | E25: 1.75 | F25: =D25/2 -> 0.51 | G25: =E25*1.5 -> 2.625 | H25: =(D25+E25)/2 -> 1.385 | I25: max | J25: =IF(I25="min",D25,IF(I25="max",E25,IF(I25="med",H25))) -> 1.75 | L25: 8.95 | M25: 15.43 | N25: =L25/2 -> 4.475 | O25: =M25*1.5 -> 23.145 | P25: =(L25+M25)/2 -> 12.19 | Q25: 10.5 | R25: max | S25: =IF(R25="min",L25,IF(R25="max",M25,IF(R25="med",P25,IF(R25="ad hoc",Q25)))) -> 15.43

Sheet UND TF
A1: TARIFFA FISSA UTENZE NON DOMESTICHE (Kc)
A2: Cat | B2: Descrizione | C2: Num utenze | D2: Tot mq | E2: Kc min - Sud | F2: Qapf | G2: Tariffa Fissa 2026 | H2: TF
A3: 1 | B3: Musei,biblioteche, scuole, associazioni | C3: ='Produzione rifiuti teorica'!$C8 -> 3 | D3: ='Produzione rifiuti teorica'!$D8 -> 188 | E3: ='UND Scelta Coefficienti'!$J5 -> 0.52 | F3: =B28 -> 0.28803238 | G3: =(F3*E3) -> 0.14977684 | H3: =(G3*D3) -> 28.158045
A4: 2 | B4: campeggi,distributori carburante, impianti sportivi | C4: ='Produzione rifiuti teorica'!$C9 -> 0 | D4: ='Produzione rifiuti teorica'!$D9 -> 0 | E4: ='UND Scelta Coefficienti'!$J6 -> 0.74 | F4: =B28 -> 0.28803238 | G4: =(F4*E4) -> 0.21314396 | H4: =(G4*D4) -> 0
A5: 3 | B5: stabilimenti balneari | C5: ='Produzione rifiuti teorica'!$C10 -> 0 | D5: ='Produzione rifiuti teorica'!$D10 -> 0 | E5: ='UND Scelta Coefficienti'!$J7 -> 0.75 | F5: =B28 -> 0.28803238 | G5: =(F5*E5) -> 0.21602428 | H5: =(G5*D5) -> 0
A6: 4 | B6: esposizioni ed autosaloni | C6: ='Produzione rifiuti teorica'!$C11 -> 0 | D6: ='Produzione rifiuti teorica'!$D11 -> 0 | E6: ='UND Scelta Coefficienti'!$J8 -> 0.52 | F6: =B28 -> 0.28803238 | G6: =(F6*E6) -> 0.14977684 | H6: =(G6*D6) -> 0
A7: 5 | B7: alberghi con ristorante | C7: ='Produzione rifiuti teorica'!$C12 -> 0 | D7: ='Produzione rifiuti teorica'!$D12 -> 0 | E7: ='UND Scelta Coefficienti'!$J9 -> 1.55 | F7: =B28 -> 0.28803238 | G7: =(F7*E7) -> 0.44645018 | H7: =(G7*D7) -> 0
A8: 6 | B8: alberghi senza ristorante | C8: ='Produzione rifiuti teorica'!$C13 -> 0 | D8: ='Produzione rifiuti teorica'!$D13 -> 0 | E8: ='UND Scelta Coefficienti'!$J10 -> 0.99 | F8: =B28 -> 0.28803238 | G8: =(F8*E8) -> 0.28515205 | H8: =(G8*D8) -> 0
A9: 7 | B9: case di cura e riposo | C9: ='Produzione rifiuti teorica'!$C14 -> 0 | D9: ='Produzione rifiuti teorica'!$D14 -> 0 | E9: ='UND Scelta Coefficienti'!$J11 -> 1.2 | F9: =B28 -> 0.28803238 | G9: =(F9*E9) -> 0.34563885 | H9: =(G9*D9) -> 0
A10: 8 | B10: uffici,agenzie | C10: ='Produzione rifiuti teorica'!$C15 -> 5 | D10: ='Produzione rifiuti teorica'!$D15 -> 312 | E10: ='UND Scelta Coefficienti'!$J12 -> 1.05 | F10: =B28 -> 0.28803238 | G10: =(F10*E10) -> 0.302434 | H10: =(G10*D10) -> 94.359407
A11: 9 | B11: banche, istituti di credito e studi professionali | C11: ='Produzione rifiuti teorica'!$C16 -> 0 | D11: ='Produzione rifiuti teorica'!$D16 -> 0 | E11: ='UND Scelta Coefficienti'!$J13 -> 0.63 | F11: =B28 -> 0.28803238 | G11: =(F11*E11) -> 0.1814604 | H11: =(G11*D11) -> 0
A12: 10 | B12: negozi di abbigliamento,calzature,librerie, cartolerie e beni durevoli | C12: ='Produzione rifiuti teorica'!$C17 -> 1 | D12: ='Produzione rifiuti teorica'!$D17 -> 176 | E12: ='UND Scelta Coefficienti'!$J14 -> 1.16 | F12: =B28 -> 0.28803238 | G12: =(F12*E12) -> 0.33411756 | H12: =(G12*D12) -> 58.80469
A13: 11 | B13: edicola,farmacia,tabaccherie | C13: ='Produzione rifiuti teorica'!$C18 -> 2 | D13: ='Produzione rifiuti teorica'!$D18 -> 141 | E13: ='UND Scelta Coefficienti'!$J15 -> 1.52 | F13: =B28 -> 0.28803238 | G13: =(F13*E13) -> 0.43780921 | H13: =(G13*D13) -> 61.731099
A14: 12 | B14: attività artigianali tipo botteghe (falgname, idraluico, fabbro, elettricista, parrucchieri) | C14: ='Produzione rifiuti teorica'!$C19 -> 5 | D14: ='Produzione rifiuti teorica'!$D19 -> 380 | E14: ='UND Scelta Coefficienti'!$J16 -> 1.06 | F14: =B28 -> 0.28803238 | G14: =(F14*E14) -> 0.30531432 | H14: =(G14*D14) -> 116.01944
A15: 13 | B15: carrozzeria, autofficine elettrauto | C15: ='Produzione rifiuti teorica'!$C20 -> 2 | D15: ='Produzione rifiuti teorica'!$D20 -> 605 | E15: ='UND Scelta Coefficienti'!$J17 -> 1.45 | F15: =B28 -> 0.28803238 | G15: =(F15*E15) -> 0.41764695 | H15: =(G15*D15) -> 252.6764
A16: 14 | B16: attività industriali con capannone di produzione | C16: ='Produzione rifiuti teorica'!$C21 -> 0 | D16: ='Produzione rifiuti teorica'!$D21 -> 0 | E16: ='UND Scelta Coefficienti'!$J18 -> 0.86 | F16: =B28 -> 0.28803238 | G16: =(F16*E16) -> 0.24770784 | H16: =(G16*D16) -> 0
A17: 15 | B17: attività artigianali di produzione beni specifici | C17: ='Produzione rifiuti teorica'!$C22 -> 3 | D17: ='Produzione rifiuti teorica'!$D22 -> 801 | E17: ='UND Scelta Coefficienti'!$J19 -> 0.95 | F17: =B28 -> 0.28803238 | G17: =(F17*E17) -> 0.27363076 | H17: =(G17*D17) -> 219.17824
A18: 16 | B18: ristoranti,trattorie,osterie, pizzerie e pub | C18: ='Produzione rifiuti teorica'!$C23 -> 0 | D18: ='Produzione rifiuti teorica'!$D23 -> 0 | E18: ='UND Scelta Coefficienti'!$J20 -> 8.18 | F18: =B28 -> 0.28803238 | G18: =(F18*E18) -> 2.3561048 | H18: =(G18*D18) -> 0
A19: 17 | B19: bar,caffè,pasticcieria | C19: ='Produzione rifiuti teorica'!$C24 -> 3 | D19: ='Produzione rifiuti teorica'!$D24 -> 214 | E19: ='UND Scelta Coefficienti'!$J21 -> 4.38 | F19: =B28 -> 0.28803238 | G19: =(F19*E19) -> 1.2615818 | H19: =(G19*D19) -> 269.97851
A20: 18 | B20: Supermercati,macellerie e generi alimentari | C20: ='Produzione rifiuti teorica'!$C25 -> 4 | D20: ='Produzione rifiuti teorica'!$D25 -> 442 | E20: ='UND Scelta Coefficienti'!$J22 -> 2.8 | F20: =B28 -> 0.28803238 | G20: =(F20*E20) -> 0.80649066 | H20: =(G20*D20) -> 356.46887
A21: 19 | B21: plurilicenze alimentari | C21: ='Produzione rifiuti teorica'!$C26 -> 1 | D21: ='Produzione rifiuti teorica'!$D26 -> 23 | E21: ='UND Scelta Coefficienti'!$J23 -> 3.02 | F21: =B28 -> 0.28803238 | G21: =(F21*E21) -> 0.86985778 | H21: =(G21*D21) -> 20.006729
A22: 20 | B22: ortofrutta,pescheria,fiori e piante, pizza a taglio | C22: ='Produzione rifiuti teorica'!$C27 -> 1 | D22: ='Produzione rifiuti teorica'!$D27 -> 108 | E22: ='UND Scelta Coefficienti'!$J24 -> 10.88 | F22: =B28 -> 0.28803238 | G22: =(F22*E22) -> 3.1337923 | H22: =(G22*D22) -> 338.44956
A23: 21 | B23: discoteche, night club | C23: ='Produzione rifiuti teorica'!$C28 -> 0 | D23: ='Produzione rifiuti teorica'!$D28 -> 0 | E23: ='UND Scelta Coefficienti'!$J25 -> 1.75 | F23: =$B$28 -> 0.28803238 | G23: =(F23*E23) -> 0.50405666 | H23: =(G23*D23) -> 0
B25: Totale | C25: =SUM(C3:C24) -> 30 | D25: =SUM(D3:D24) -> 3390 | G25: Totale | H25: =SUM(H3:H24) -> 1815.831 | I25: ='Dati iniziali'!D7-'UND TF'!H25 -> 0
A28: Qapf = | B28: =('Dati iniziali'!D7)/((D3*E3)+(D4*E4)+(D5*E5)+(D6*E6)+(D7*E7)+(D8*E8)+(D9*E9)+(D10*E10)+(D11*E11)+(D12*E12)+(D13*E13)+(D14*E14)+(D15*E15)+(D16*E16)+(D17*E17)+(D18*E18)+(D19*E19)+(D20*E20)+(D21*E21)+(D22*E22)+(D23*E23)) -> 0.28803238

Sheet UND TV
A1: TARIFFA VARIABILE UTENZE NON DOMESTICHE (Kd)
A2: Cat | B2: Descrizione | C2: Num utenze | D2: Tot mq | E2: Kd min - Sud | F2: Tot mq * Kd | G2: Cu | H2: Tariffa Variabile 2026 | I2: TV
A3: 1 | B3: Musei,biblioteche, scuole, associazioni | C3: ='Produzione rifiuti teorica'!$C8 -> 3 | D3: ='Produzione rifiuti teorica'!$D8 -> 188 | E3: ='UND Scelta Coefficienti'!$S5 -> 6.83 | F3: =D3*E3 -> 1284.04 | G3: ='Dati iniziali'!$D$8/$F$25 -> 0.23971365 | H3: =E3*G3 -> 1.6372442 | I3: =D3*H3 -> 307.80192
A4: 2 | B4: campeggi,distributori carburante, impianti sportivi | C4: ='Produzione rifiuti teorica'!$C9 -> 0 | D4: ='Produzione rifiuti teorica'!$D9 -> 0 | E4: ='UND Scelta Coefficienti'!$S6 -> 7 | F4: =D4*E4 -> 0 | G4: ='Dati iniziali'!$D$8/$F$25 -> 0.23971365 | H4: =E4*G4 -> 1.6779955 | I4: =D4*H4 -> 0
A5: 3 | B5: stabilimenti balneari | C5: ='Produzione rifiuti teorica'!$C10 -> 0 | D5: ='Produzione rifiuti teorica'!$D10 -> 0 | E5: ='UND Scelta Coefficienti'!$S7 -> 7 | F5: =D5*E5 -> 0 | G5: ='Dati iniziali'!$D$8/$F$25 -> 0.23971365 | H5: =E5*G5 -> 1.6779955 | I5: =D5*H5 -> 0
A6: 4 | B6: esposizioni ed autosaloni | C6: ='Produzione rifiuti teorica'!$C11 -> 0 | D6: ='Produzione rifiuti teorica'!$D11 -> 0 | E6: ='UND Scelta Coefficienti'!$S8 -> 5 | F6: =D6*E6 -> 0 | G6: ='Dati iniziali'!$D$8/$F$25 -> 0.23971365 | H6: =E6*G6 -> 1.1985682 | I6: =D6*H6 -> 0
A7: 5 | B7: alberghi con ristorante | C7: ='Produzione rifiuti teorica'!$C12 -> 0 | D7: ='Produzione rifiuti teorica'!$D12 -> 0 | E7: ='UND Scelta Coefficienti'!$S9 -> 14 | F7: =D7*E7 -> 0 | G7: ='Dati iniziali'!$D$8/$F$25 -> 0.23971365 | H7: =E7*G7 -> 3.3559911 | I7: =D7*H7 -> 0
A8: 6 | B8: alberghi senza ristorante | C8: ='Produzione rifiuti teorica'!$C13 -> 0 | D8: ='Produzione rifiuti teorica'!$D13 -> 0 | E8: ='UND Scelta Coefficienti'!$S10 -> 9 | F8: =D8*E8 -> 0 | G8: ='Dati iniziali'!$D$8/$F$25 -> 0.23971365 | H8: =E8*G8 -> 2.1574228 | I8: =D8*H8 -> 0
A9: 7 | B9: case di cura e riposo | C9: ='Produzione rifiuti teorica'!$C14 -> 0 | D9: ='Produzione rifiuti teorica'!$D14 -> 0 | E9: ='UND Scelta Coefficienti'!$S11 -> 11 | F9: =D9*E9 -> 0 | G9: ='Dati iniziali'!$D$8/$F$25 -> 0.23971365 | H9: =E9*G9 -> 2.6368501 | I9: =D9*H9 -> 0
A10: 8 | B10: uffici,agenzie,studi professionali | C10: ='Produzione rifiuti teorica'!$C15 -> 5 | D10: ='Produzione rifiuti teorica'!$D15 -> 312 | E10: ='UND Scelta Coefficienti'!$S12 -> 10.5 | F10: =D10*E10 -> 3276 | G10: ='Dati iniziali'!$D$8/$F$25 -> 0.23971365 | H10: =E10*G10 -> 2.5169933 | I10: =D10*H10 -> 785.30192
A11: 9 | B11: banche ed istituti di credito | C11: ='Produzione rifiuti teorica'!$C16 -> 0 | D11: ='Produzione rifiuti teorica'!$D16 -> 0 | E11: ='UND Scelta Coefficienti'!$S13 -> 9 | F11: =D11*E11 -> 0 | G11: ='Dati iniziali'!$D$8/$F$25 -> 0.23971365 | H11: =E11*G11 -> 2.1574228 | I11: =D11*H11 -> 0
A12: 10 | B12: negozi di abbigliamento,calzature,librerie, cartolerie e beni durevoli | C12: ='Produzione rifiuti teorica'!$C17 -> 1 | D12: ='Produzione rifiuti teorica'!$D17 -> 176 | E12: ='UND Scelta Coefficienti'!$S14 -> 12.5 | F12: =D12*E12 -> 2200 | G12: ='Dati iniziali'!$D$8/$F$25 -> 0.23971365 | H12: =E12*G12 -> 2.9964206 | I12: =D12*H12 -> 527.37003
A13: 11 | B13: edicola,farmacia,tabaccherie | C13: ='Produzione rifiuti teorica'!$C18 -> 2 | D13: ='Produzione rifiuti teorica'!$D18 -> 141 | E13: ='UND Scelta Coefficienti'!$S15 -> 15 | F13: =D13*E13 -> 2115 | G13: ='Dati iniziali'!$D$8/$F$25 -> 0.23971365 | H13: =E13*G13 -> 3.5957047 | I13: =D13*H13 -> 506.99437
A14: 12 | B14: attività artigianali tipo botteghe (falgname, idraluico, fabbro, elettricista, parrucchieri) | C14: ='Produzione rifiuti teorica'!$C19 -> 5 | D14: ='Produzione rifiuti teorica'!$D19 -> 380 | E14: ='UND Scelta Coefficienti'!$S16 -> 12.2 | F14: =D14*E14 -> 4636 | G14: ='Dati iniziali'!$D$8/$F$25 -> 0.23971365 | H14: =E14*G14 -> 2.9245065 | I14: =D14*H14 -> 1111.3125
... A23: 21 | B23: discoteche, night club | C23: ='Produzione rifiuti teorica'!$C28 -> 0 | D23: ='Produzione rifiuti teorica'!$D28 -> 0 | E23: ='UND Scelta Coefficienti'!$S25 -> 15.43 | F23: =D23*E23 -> 0 | G23: ='Dati iniziali'!$D$8/$F$25 -> 0.23971365 | H23: =E23*G23 -> 3.6987816 | I23: =D23*H23 -> 0
B25: Totali | C25: =SUM(C3:C23) -> 30 | D25: =SUM(D3:D23) -> 3390 | F25: =SUM(F3:F24) -> 48587.19 | I25: =SUM(I3:I23) -> 11647.013 | J25: ='Dati iniziali'!D8-'UND TV'!I25 -> 0

Sheet TARIFFE UND 2026
A1: TARIFFE TARI 2026 UTENZE NON DOMESTICHE
A2: Cat | B2: Descrizione | C2: TF | D2: TV | E2: Tariffa Totale 2026 | G2: TF | H2: TV | I2: Tariffa 2025 | K2: Differenza
A3: 1 | B3: Musei,biblioteche, scuole, associazioni | C3: ='UND TF'!G3 -> 0.14977684 | D3: ='UND TV'!H3 -> 1.6372442 | E3: =(C3+D3) -> 1.7870211 | G3: 0.094455631 | H3: 1.7095214 | I3: 1.803977 | K3: =E3-I3 -> -0.016955921 | M3: =K3/I3 -> -0.0093991893
A4: 2 | B4: campeggi,distributori carburante, impianti sportivi | C4: ='UND TF'!G4 -> 0.21314396 | D4: ='UND TV'!H4 -> 1.6779955 | E4: =(C4+D4) -> 1.8911395 | G4: 0.13441763 | H4: 1.7520717 | I4: 1.8864893 | K4: =E4-I4 -> 0.0046502123 | M4: =K4/I4 -> 0.0024650086
A5: 3 | B5: stabilimenti balneari | C5: ='UND TF'!G5 -> 0.21602428 | D5: ='UND TV'!H5 -> 1.6779955 | E5: =(C5+D5) -> 1.8940198 | G5: 0.13623408 | H5: 1.7520717 | I5: 1.8883058 | K5: =E5-I5 -> 0.0057140816 | M5: =K5/I5 -> 0.0030260362
A6: 4 | B6: esposizioni ed autosaloni | C6: ='UND TF'!G6 -> 0.14977684 | D6: ='UND TV'!H6 -> 1.1985682 | E6: =(C6+D6) -> 1.3483451 | G6: 0.094455631 | H6: 1.2514798 | I6: 1.3459354 | K6: =E6-I6 -> 0.0024096922 | M6: =K6/I6 -> 0.0017903476
A7: 5 | B7: alberghi con ristorante | C7: ='UND TF'!G7 -> 0.44645018 | D7: ='UND TV'!H7 -> 3.3559911 | E7: =(C7+D7) -> 3.8024413 | G7: 0.28155044 | H7: 3.5041433 | I7: 3.7856938 | K7: =E7-I7 -> 0.01674751 | M7: =K7/I7 -> 0.0044238945
A8: 6 | B8: alberghi senza ristorante | C8: ='UND TF'!G8 -> 0.28515205 | D8: ='UND TV'!H8 -> 2.1574228 | E8: =(C8+D8) -> 2.4425749 | G8: 0.17982899 | H8: 2.2526636 | I8: 2.4324926 | K8: =E8-I8 -> 0.01008234 | M8: =K8/I8 -> 0.0041448597
A9: 7 | B9: case di cura e riposo | C9: ='UND TF'!G9 -> 0.34563885 | D9: ='UND TV'!H9 -> 2.6368501 | E9: =(C9+D9) -> 2.982489 | G9: 0.21797453 | H9: 2.7532555 | I9: 2.97123 | K9: =E9-I9 -> 0.011258991 | M9: =K9/I9 -> 0.0037893368
A10: 8 | B10: uffici ed agenzie | C10: ='UND TF'!G10 -> 0.302434 | D10: ='UND TV'!H10 -> 2.5169933 | E10: =(C10+D10) -> 2.8194273 | G10: 0.19072772 | H10: 2.6281075 | I10: 2.8188352 | K10: =E10-I10 -> 0.00059210258 | M10: =K10/I10 -> 0.00021005221
A11: 9 | B11: banche, istituti di credito e studi professionali | C11: ='UND TF'!G11 -> 0.1814604 | D11: ='UND TV'!H11 -> 2.1574228 | E11: =(C11+D11) -> 2.3388832 | G11: 0.11443663 | H11: 2.2526636 | I11: 2.3671002 | K11: =E11-I11 -> -0.028216955 | M11: =K11/I11 -> -0.011920473
A12: 10 | B12: negozi di abbigliamento,calzature,librerie, cartolerie e beni durevoli | C12: ='UND TF'!G12 -> 0.33411756 | D12: ='UND TV'!H12 -> 2.9964206 | E12: =(C12+D12) -> 3.3305382 | G12: 0.21070872 | H12: 3.1286994 | I12: 3.3394081 | K12: =E12-I12 -> -0.0088699398 | M12: =K12/I12 -> -0.0026561413
A13: 11 | B13: Edicola, farmacia, tabaccaio, plurilicenze | C13: ='UND TF'!G13 -> 0.43780921 | D13: ='UND TV'!H13 -> 3.5957047 | E13: =(C13+D13) -> 4.033514 | G13: 0.27610108 | H13: 3.7544393 | I13: 4.0305404 | K13: =E13-I13 -> 0.0029735995 | M13: =K13/I13 -> 0.00073776695
A14: 12 | B14: attività artigianali tipo botteghe (falgname, idraluico, fabbro, elettricista, parrucchieri) | C14: ='UND TF'!G14 -> 0.30531432 | D14: ='UND TV'!H14 -> 2.9245065 | E14: =(C14+D14) -> 3.2298208 | G14: 0.19254417 | H14: 3.0536106 | I14: 3.2461548 | K14: =E14-I14 -> -0.016333942 | M14: =K14/I14 -> -0.0050317817
... A23: 21 | B23: discoteche, night club | C23: ='UND TF'!G23 -> 0.50405666 | D23: ='UND TV'!H23 -> 3.6987816 | E23: =(C23+D23) -> 4.2028383 | G23: 0.31787953 | H23: 3.8620665 | I23: 4.1799461 | K23: =E23-I23 -> 0.022892204 | M23: =K23/I23 -> 0.0054766744

Sheet SCELTA COEFFICIENTI
A2: COEFFICIENTI UTENZE NON DOMESTICHE
A3: TIPO ATT. | B3: DESCRIZIONE | E3: KC applicato | F3: KD applicato
A4: 1 | B4: Musei, biblioteche, scuole, associazioni, luoghi di culto | E4: 0.52 | F4: 6.83
A5: 2 | B5: Campeggi, distributori carburanti, impianti sportivi | E5: 0.74 | F5: 7
A6: 3 | B6: Stabilimenti balneari | E6: 0.75 | F6: 7
A7: 4 | B7: Esposizioni, autosaloni | E7: 0.52 | F7: 5
A8: 5 | B8: Alberghi con ristorante | E8: 1.55 | F8: 14
A9: 6 | B9: Alberghi senza ristorante | E9: 0.99 | F9: 9
A10: 7 | B10: Case di cura e riposo | E10: 1.2 | F10: 11
A11: 8 | B11: Uffici, agenzie, studi professionali | E11: 1.05 | F11: 10.5
A12: 9 | B12: Banche ed istituti di credito | E12: 0.63 | F12: 9
A13: 10 | B13: Negozi abbigliamento, calzature, libreria, cartoleria, ferramenta e altri beni durevoli | E13: 1.16 | F13: 12.5
A14: 11 | B14: Edicola, farmacia, tabaccaio, plurilicenze | E14: 1.52 | F14: 15
A15: 12 | B15: Attività artigianali tipo botteghe: falegname, idraulico, fabbro, elettricista | E15: 1.06 | F15: 12.2
... A24: 21 | B24: Discoteche, night club | E24: 1.75 | F24: 15.43

Sheet import Datagraph
B2: Tariffa FISSA | C2: Tariffa VARIABILE | G2: TF | H2: TV
B3: 0.39976581 | C3: 106.56162 | G3: 0.14977684 | H3: 1.6372442
B4: 0.46905855 | C4: 173.29719 | G4: 0.21314396 | H4: 1.6779955
B5: 0.53302108 | C5: 220.65791 | G5: 0.21602428 | H5: 1.6779955
B6: 0.57566277 | C6: 279.85881 | G6: 0.14977684 | H6: 1.1985682
B7: 0.5916534 | C7: 349.82352 | G7: 0.44645018 | H7: 3.3559911
B8: 0.58632319 | C8: 403.64252 | G8: 0.28515205 | H8: 2.1574228
G9: 0.34563885 | H9: 2.6368501
G10: 0.302434 | H10: 2.5169933
G11: 0.1814604 | H11: 2.1574228
G12: 0.33411756 | H12: 2.9964206
G13: 0.43780921 | H13: 3.5957047
G14: 0.30531432 | H14: 2.9245065
G15: 0.41764695 | H15: 3.056349
G16: 0.24770784 | H16: 1.8050438
G17: 0.27363076 | H17: 2.1574228
G18: 2.3561048 | H18: 18.697665
G19: 1.2615818 | H19: 9.2289755
G20: 0.80649066 | H20: 2.9245065
... G23: 0.50405666 | H23: 3.6987816
